BEGIN:VCALENDAR
VERSION:2.0
PRODID:-//Kalender//
BEGIN:VEVENT
SUMMARY:Weiterbildungsseminar "Hauswirtschaft"
DTSTART:20240904T070000Z
DTEND:20240905T133000Z
DTSTAMP:20260420T035624Z
UID:event_ical_eventmanagement_938
DESCRIPTION:In dem Weiterbildungsseminar für Hauswirtschaftsangestellte i
 n unseren Freizeit- und Tagungshäusern sehen wir uns das Tätigkeitsfeld 
 Hauswirtschaft unter folgenden Aspekten an: - Was heißt "sauber" und wie 
 bekommen wir das hin? - Instandhaltung - Wie überrasche ich Gäste? - Sch
 wierige Gäste - Wie gehe ich damit um? - Effizienz und Qualität Referent
 : Horst Bötcher https://www.horstboetcher.de/
LOCATION:online\, -\, -\, Deutschland
END:VEVENT
END:VCALENDAR
