BEGIN:VCALENDAR
VERSION:2.0
PRODID:-//Kalender//
BEGIN:VEVENT
SUMMARY:Weiterbildung GEBe-Methode  - Modul 2 -
DTSTART:20241107T132921Z
DTEND:20241108T132921Z
DTSTAMP:20260422T084115Z
UID:event_ical_eventmanagement_933
DESCRIPTION:Die GEBe-Methode („Gesellschaftlich-demokratisches Engagemen
 t von benachteiligten/ bildungsfernen Jugendlichen fördern“) setzt bei 
 den konkreten Lebenswelten junger Menschen an. Sie richtet sich an Fachkr
 äfte und Teamleitungen der Offenen Kinder- und Jugendarbeit\, Schulsozial
 arbeit und Jugendverbandsarbeit und ermöglicht den Teilnehmenden\, inform
 elle Partizipation in ihrer alltäglichen Praxis umzusetzen\, eigene Proze
 sse zu initiieren und zu reflektieren.  Die Weiterbildungsreihe besteht a
 us drei Präsenzmodulen und zwei Onlinetreffen . Dazwischen soll die Metho
 de in der Praxis ausprobiert werden um dann innerhalb der Weiterbildung re
 flektiert zu werden. Modul 1 findet statt: 26.-27.09.2024 Modul 3 findet s
 tatt: 16.01.2025 Die Anmeldung erfolgt über das Modul 1. Der Preis ist de
 r Gesamtpreis p.P. für alle Module und die Online-Termine. Referenten: Ni
 na Vormelchert und Thomas Glaw
LOCATION:online\, -\, -\, Deutschland
END:VEVENT
END:VCALENDAR
