BEGIN:VCALENDAR
VERSION:2.0
PRODID:-//Kalender//
BEGIN:VEVENT
SUMMARY:Offene Arbeit mit Kindern und Jugendlichen
DTSTART:20241105T080000Z
DTEND:20241105T160000Z
DTSTAMP:20260421T093030Z
UID:event_ical_eventmanagement_928
DESCRIPTION:Der zweitägige Einführungskurs richtet sich an hauptberuflic
 he Mitarbeitende\, die in den letzten zwei Jahren in die offene Arbeit mit
  Kindern und Jugendlichen eingestiegen sind. Er erleichtert die fachliche 
 Standortbestimmung im neuen Arbeitsfeld. Das Seminar vermittelt zum einen 
 theoretisches und praktisches Fachwissen zu Inhalten\, Aufgaben und Konfli
 ktfeldern der offenen Kinder- und Jugendarbeit. Zum anderen gibt es Raum f
 ür die Reflexion des eigenen pädagogischen Handelns in der offenen Arbei
 t mit Kindern und Jugendlichen. Darüber hinaus stärkt es die Vernetzung 
 zwischen den Fachkräften dieses Handlungsfeldes. Teil 1 findet statt am 2
 0.08.2024. Die Anmeldung erfolgt über den Teil 1 der Veranstaltung und gi
 lt dann für beide Tage. Leitung: Heike Gruhlke\, Lydia Schädlich (CVJM S
 achsen e.V.)
LOCATION:Landesjugendpfarramt Sachsen\, Caspar-David-Friedrich-Straße 5\,
  01219 Dresden\, Deutschland
END:VEVENT
END:VCALENDAR
