BEGIN:VCALENDAR
VERSION:2.0
PRODID:-//Kalender//
BEGIN:VEVENT
SUMMARY:KonfiCup
DTSTART;TZID=Europe/Berlin:20240309T123842
DTEND;TZID=Europe/Berlin:20240309T123842
DTSTAMP:20260422T181912Z
UID:event_ical_eventmanagement_893
DESCRIPTION:Konfirmandengruppen treten während ihrer Konfirmandenzeit in 
 gemischten Mannschaften in den jeweiligen Landeskirchen gegeneinander in e
 inen sportlichen Wettkampf im Fußballspiel an. Dazu messen die Mannschaft
 en zunächst in einem regionalen Ausscheidungsturnier ihre Kräfte und die
  Sieger fahren dann zu dem landeskirchlichen Endturnier. Die Sieger dieser
  Turniere nehmen anschließend am EKD-KonfiCup teil. Der EKD-KonfiCup ist 
 erneut fester Bestandteil des Rahmenprogramms zum DFB-Pokalendspiel der Fr
 auen am 9. Mai 2024 in Köln.  Teilnehmende Spielerinnen und Spieler müs
 sen bei der Teilnahme am EKD-Konficup:  im Jahr 2024 ihre Konfirmation fe
 iern und nach dem 1. Mai 2009 geboren sein. Zeitnah vor dem Turnier legt j
 ede Mannschaft eine Mannschaftsliste der teilnehmenden Spielerinnen und Sp
 ieler vor. Die Liste ist auf 12 Spielerinnen und Spieler begrenzt. Weiterh
 in sollen drei Teambetreuer/-innen benannt werden. Für das Sachsenturnier
  am 09.03.2024 gilt abweichend: Teilnahme der Altersgruppe 7. Klasse und 8
 . Klasse ist möglich.  Es ist ein Hallenturnier. Gespielt wird mit vier 
 Feldspielern und einem Torwart. Beliebige Wechsel sind möglich. Das säch
 sische Turnier verzichtet auf die Regelung der EKD\, daß zwingend zwei M
 ädchen auf dem Platz stehen müssen.  Beginn des Turniers: 13:00 Uhr  D
 ie Länge des Tuniers richtet sich nach der Anzahl der angemeldeten Mannsc
 haften.
LOCATION:BSZ Zschopau\, Johann-Gottlob-Pfaff-Str. 1\, 09405 Zschopau\, Deu
 tschland
END:VEVENT
END:VCALENDAR
