BEGIN:VCALENDAR
VERSION:2.0
PRODID:-//Kalender//
BEGIN:VEVENT
SUMMARY:BBB - Bibelwerkstatt
DTSTART;TZID=Europe/Berlin:20240806T190000
DTSTAMP:20260422T234848Z
UID:event_ical_eventmanagement_878
DESCRIPTION:Die Bibel hat viel zu erzählen. Manche Texte und Geschichten 
 erscheinen dir fremd und unverständlich. Andere sind dir schon von Kindes
 beinen vertraut und du denkst\, da gibt es nichts Neues mehr. Wir wollen g
 emeinsam verschiedene Geschichten der Bibel lesen. Manche werden neu für 
 dich sein und ihre Aktualität wird dich verblüffen. Manche sind dir altb
 ekannt und du fragst dich\, was sie noch zu bieten haben. Wir werden Neues
  und Spannendes entdecken und gemeinsam neue Erkenntnisse finden. Wir tref
 fen uns online. Den Link erhältst du einen Tag vor der Veranstaltung.
LOCATION:online\, -\, -\, Deutschland
END:VEVENT
END:VCALENDAR
