BEGIN:VCALENDAR
VERSION:2.0
PRODID:-//Kalender//
BEGIN:VEVENT
SUMMARY:Abgesagt: Toolbar Seminar Agil mit Storytelling 
DTSTART;TZID=Europe/Berlin:20230913T150000
DTEND;TZID=Europe/Berlin:20230913T190000
DTSTAMP:20260423T124755Z
UID:event_ical_eventmanagement_810
DESCRIPTION:„Freyja\, die mutige Fennek-Füchsin\, war unruhig. Sie spü
 rte\, dass sie für etwas Größeres bestimmt war als für ihr einfaches L
 eben in der Wüste. Doch sie hatte keine Ahnung\, wie sie ihren Traum verw
 irklichen sollte. Eines Tages jedoch\, als sie durch das Gebirge streifte\
 , sah sie einen mächtigen Adler hoch am Himmel kreisen. Der majestätisch
 e Vogel schien direkt in ihr Herz zu blicken und weckte in ihr den unstill
 baren Wunsch\, die Welt zu entdecken und die spannendsten Abenteuer zu erl
 eben….“   Stell dir vor\, du könntest die Aufmerksamkeit deines Publ
 ikums fesseln\, indem du eine Geschichte erzählst\, die ihre Sinne betör
 t\, ihre Vorstellungskraft entfacht und ihre Emotionen in Wallung bringt. 
 Entdeckt\, wie ihr eure Ideen aufregend und verständlich präsentieren k
 önnt\, indem ihr agiles Denken mit Storytelling verbindet! Lernt\, wie ih
 r eure Zuhörer in den Bann zieht\, indem ihr mit bildhafter Sprache und k
 onkreten Beispielen arbeitet. In diesem Seminar für Storytelling und agil
 es Denken könnt ihr eure Kreativität entfalten und euch in eine Welt vol
 ler Geschichten vertiefen - keine Vorkenntnisse erforderlich! Ihr werdet 
 Übungen machen und gemeinsam an eurer Storytelling-Technik und eurem agil
 en Denken arbeiten. Setzt Elemente wie Plot\, Figuren und Konflikte geziel
 t ein\, um eure Botschaft effektiv zu vermitteln und agile Denkweisen wie 
 Flexibilität\, Offenheit und Kreativität in eure Präsentationen zu inte
 grieren. Am Ende des Seminars werdet ihr in der Lage sein\, eure eigenen I
 deen und Projekte spannend\, verständlich und agil zu präsentieren. Lern
 t Techniken und Tricks\, um eure Zuhörer zu begeistern und eure Botschaft
  effektiv zu vermitteln\, während ihr gleichzeitig agile Denkweisen in eu
 re Präsentationen einbindet!
LOCATION:Landesjugendpfarramt Sachsen\, Caspar-David-Friedrich-Straße 5\,
  01219 Dresden\, Deutschland
END:VEVENT
END:VCALENDAR
