BEGIN:VCALENDAR
VERSION:2.0
PRODID:-//Kalender//
BEGIN:VEVENT
SUMMARY:Stärker mit Games
DTSTART;TZID=Europe/Berlin:20230228T000000
DTEND;TZID=Europe/Berlin:20230228T000000
DTSTAMP:20260425T132641Z
UID:event_ical_eventmanagement_790
DESCRIPTION:Seminar für pädagogische Fachkräfte der Jugendarbeit zur Nu
 tzung digitaler Spiele in der eigenen Arbeit.
LOCATION:Dresden\, -\, -\, Deutschland
END:VEVENT
END:VCALENDAR
