BEGIN:VCALENDAR
VERSION:2.0
PRODID:-//Kalender//
BEGIN:VEVENT
SUMMARY:Jugendpfarrkonvent
DTSTART:20231017T070000Z
DTEND:20231019T160000Z
DTSTAMP:20260421T060414Z
UID:event_ical_eventmanagement_780
DESCRIPTION:Der Jugendpfarrkonvent ist die Fachtagung für alle Jugendpfar
 rerinnen und Jugendpfarrer der Ev.-Luth. Landeskirche Sachsens. Die Einlad
 ung geht dem festen Teilnehmerkreis zu.
LOCATION:online\, -\, -\, Deutschland
END:VEVENT
END:VCALENDAR
