BEGIN:VCALENDAR
VERSION:2.0
PRODID:-//Kalender//
BEGIN:VEVENT
SUMMARY:Praxiswoche bei „Kirche unterwegs“
DTSTART;TZID=Europe/Berlin:20230723T000000
DTEND;TZID=Europe/Berlin:20230730T000000
DTSTAMP:20260422T190845Z
UID:event_ical_eventmanagement_773
DESCRIPTION:Kirche unterwegs\, das heißt: das Evangelium dahin bringen\, 
 wo sich die Leute im Urlaub aufhalten. In diesem Fall auf dem Zeltplatz Gu
 nzenberg an der Talsperre Pöhl. Zusammen mit einem Team von 3-8 größten
 teils ehrenamtlichen Mitarbeitenden leben wir Zelt an Zelt mit Urlaubern u
 nd Dauercampern\, laden sie ein zu verschiedenen Veranstaltungen für klei
 n und groß und verkündigen die Gute Nachricht – mit einer ganzen Palet
 te an Angeboten: Kindernachmittag\, Teenieabend\, Sandmann-Programm\, Offe
 ner Abend\, Konzert\, Kino\, Volleyballturnier und\, ganz wichtig: Lagerfe
 uer. Eine gute Möglichkeit\, sich auszuprobieren\, als Moderator\, Pädag
 ogin\, Seelsorger oder Predigerin\, mentoriert von Johannes Bartels und Ul
 rike Schmidt. Zur Vorbereitung gehört ein Wochenende vom 24.-26.3.2023 in
  Jocketa. Leitung: Johannes Bartels und Ulrike Schmidt (Kirche unterwegs V
 ogtland) Kosten: 0\,- €
LOCATION:Zeltplatz Gunzenberg an der Talsperre Pöhl\, Hauptstraße 38\, 0
 8543  Pöhl\, Deutschland
END:VEVENT
END:VCALENDAR
