BEGIN:VCALENDAR
VERSION:2.0
PRODID:-//Kalender//
BEGIN:VEVENT
SUMMARY:Null-Euro-Tour
DTSTART:20230716T220000Z
DTEND:20230720T220000Z
DTSTAMP:20260422T001646Z
UID:event_ical_eventmanagement_772
DESCRIPTION:Echte Abenteuer erleben\, uns wirklich kennen lernen\, an unse
 re Grenzen kommen\, ausprobieren\, ob Gott wirklich handelt – das sind d
 ie Ziele der Null-Euro-Tour. „All exclusive“: Keine Handys\, kein Geld
 \, keine Zelte\, kein Programm\, kein fester Plan. „All you can eat“ b
 edeutet hier: Du kannst alles essen\, was du in der Natur (Ungiftiges) fin
 dest\, was du geschenkt bekommst oder wir uns gemeinsam verdienen. „Anim
 ationsprogramm“ bedeutet hier: echte Leiter\, spürbare Erfahrungen\, im
 provisierte Spiele\, Abenteuer ohne fake. „Glauben“ bedeutet hier: Geb
 ete ums tägliche Brot\, überraschende Wunder\, ehrliche Gespräche\, gem
 einsames Leiden – gemeinsame Freude. Und die Unterkunft? Milliarden-Ster
 ne-Luxussuiten unter freiem Himmel\, Scheunen\, Gemeindehäuser\, Gartenla
 uben\, Keller\, … . Konkret: Wir starten in Markkleeberg und wandern von
  dort durch die Leipziger Seenlandschaft. Wir legen pro Tag 5-10 km zurüc
 k. Wir haben – abgesehen von ein paar Müsliriegeln und Tütensuppen –
  weder Nahrung noch Geld oder Zelte dabei. Wir bieten Menschen unsere Hilf
 e an und bitten dafür um Verpflegung\, Unterkunft oder Spenden. Wir erwar
 ten ein echtes Abenteuer und gleichzeitig Ruhe und tolle Gemeinschaft. htt
 ps://www.google.de/books/edition/Die_Null_Euro_Tour_Kein_Geld_keine_Siche/
 wq4lEAAAQBAJ?hl=de&amp\;gbpv=1&amp\;dq=bartels+null-euro&amp\;printsec=fro
 ntcover Teilnahmevoraussetzungen: Teenies ab 15 Jahre\, normale körperlic
 he Belastbarkeit\, der Wille\, sich herausfordern zu lassen\, Abenteuerlus
 t
LOCATION:Leipziger Seenlandschaft\, -\, -\, Deutschland
END:VEVENT
END:VCALENDAR
