BEGIN:VCALENDAR
VERSION:2.0
PRODID:-//Kalender//
BEGIN:VEVENT
SUMMARY:In Sachsen Zuhause
DTSTART;TZID=Europe/Berlin:20231012T000000
DTEND;TZID=Europe/Berlin:20231012T000000
DTSTAMP:20260424T083140Z
UID:event_ical_eventmanagement_761
DESCRIPTION:Zum zweiten Mal in diesem Jahr laden wir zu RüstzeitTagen ein
 . Ob ein Tag oder zwei Tage oder drei Tage: Nette Menschen sind dabei und 
 es ist Zeit zum Singen\, Spielen\, Kreativ- und Aktivsein. Vielleicht dreh
 en wir eine Runde mit Tandems\, Rolli-Rikscha und anderen mobilen Fahrzeug
 en? Oder wir kochen gemeinsam unser Mittagessen? Oder besuchen ältere JuB
 Leute? Und natürlich sehen wir auch etwas von der gastgebenden Stadt. Auf
  alle Fälle wird es spannend.
LOCATION:Chemnitz\, -\, Chemnitz\, Deutschland
END:VEVENT
END:VCALENDAR
