BEGIN:VCALENDAR
VERSION:2.0
PRODID:-//Kalender//
BEGIN:VEVENT
SUMMARY:"Sexualpädagogische Praxis. Ansätze\, Methoden und Materialien f
 ür die Arbeit mit Kindern und Jugendlichen“
DTSTART;TZID=Europe/Berlin:20230515T000000
DTEND;TZID=Europe/Berlin:20230515T000000
DTSTAMP:20260423T140742Z
UID:event_ical_eventmanagement_745
DESCRIPTION:Im Rahmen des Seminars lernen die Teilnehmenden verschiedenen 
 Ansätze\, Methoden und Materialien für die Arbeit mit unterschiedlichen 
 Altersgruppen kennen. Dabei werden ganz praxisorientiert Methoden und Mate
 rialien zu unterschiedlichen Themenkomplexen behandelt und ausprobiert. Mi
 t diesem Seminar wird neben Fach- und Kommunikationswissen vor allem die s
 exualpädagogische Methodenkompetenz erweitert. Referent: Dr. Wilke\, Berl
 in Die Veranstaltung wird über das Land Sachsen gefördert. Für Teilnehm
 ende außerhalb Sachsens   erhalten wir keine Fördermittel\, daher erh
 öht sich deren Teilnahmebeitrag um den Förderbetrag. Bitte kontaktieren 
 Sie uns vor Anmeldung.
LOCATION:Leipzig\, Galerie Hotel Leipziger Hof\, Hedwigstraße 3\, 04315 L
 eipzig\, Deutschland
END:VEVENT
END:VCALENDAR
