BEGIN:VCALENDAR
VERSION:2.0
PRODID:-//Kalender//
BEGIN:VEVENT
SUMMARY:Kommunikation und Personalführung - wie führe ich authentisch?
DTSTART;TZID=Europe/Berlin:20260609T090000
DTEND;TZID=Europe/Berlin:20260609T163000
DTSTAMP:20260425T132523Z
UID:event_ical_eventmanagement_1134
DESCRIPTION:Diese Weiterbildung wird als Ausbau- und Vertiefungseminar von
  2025 zum Thema "Kommunikation und Personalführung - Authentisch führen"
  angeboten. Gleichzeitig ist das Seminar auch für Neueinsteigende geeigne
 t\, die ihre Führungskompetenzen systematisch aufbauen möchten. Im Mitte
 lpunkt steht die eigene Haltung als Grundlage wirksamer Kommunikation. Sie
  bildet die Basis für gelingende Gesprächsführung\, klare Führung und 
 Vermeiden von Missverständnissen im Arbeitsalltag von Übernachtungsstät
 ten. Kommunikationskompetenz wird als moderne Wirkungskompetenz vermittelt
 \, mit der bei den Gesprächspartnern Klarheit u. Wertschätzung gleicherm
 aßen ankommt. Ziel des Seminars ist es\, Führen und Kommunizieren nicht 
 über starre Standpunkte\, sondern über eine reflektierte\, authentische 
 Haltung zu erlernen und weiterzuentwickeln. Gemeinsam erarbeiten wir\, wie
  eine ziel- und wertschätzende Gesprächsgestaltung mit Mitarbeitenden ge
 lingt.   Referent: Bernhard Holfeld - https://www.fairsprechen-und-verste
 hen.de/ Herr Holfeld arbeitet bereits seit mehreren Jahren erfolgreich mit
  dem Landestourismusverband Sachsen zusammen und kennt kirchliche Hintergr
 ünde sehr gut. Die Fortführung und Vertiefung der Inhalte bezieht sich a
 uf das Seminar vom 05.09.2025 .
LOCATION:Evangelische Tagungs- und Freizeitstätte Dresden\, Heideflügel 
 2\, 01324 Dresden\, Deutschland
END:VEVENT
END:VCALENDAR
