BEGIN:VCALENDAR
VERSION:2.0
PRODID:-//Kalender//
BEGIN:VEVENT
SUMMARY:Escape Game Wochenende "Rabatz im Dorf"
DTSTART:20260123T170000Z
DTEND:20260125T130000Z
DTSTAMP:20260421T031928Z
UID:event_ical_eventmanagement_1126
DESCRIPTION:Escape Game Wochenende „Rabatz im Dorf“ Ein Wochenende zum
  Mitdenken\, Mitgestalten und Ausprobieren für Jugendliche\, die Lust hab
 en\, ein eigenes Escape Game zu entwickeln. An diesem Wochenende tauchen d
 ie Teilnehmenden in ein fiktives Dorf ein\, in dem es ordentlich kracht: u
 nterschiedliche Interessen\, Konflikte\, Gefühle – und mittendrin die F
 rage\, wie es weitergehen soll. Gemeinsam wird daraus die Geschichte\, die
  Rätsel und die Atmosphäre eines eigenen Escape Games entwickelt. Die Er
 fahrungen\, Ideen und Sichtweisen der Jugendlichen sind die wichtigste Gru
 ndlage: Was nervt euch im Dorf\, in der Schule\, im Verein? Wo gibt es Str
 eit\, Ungerechtigkeit oder coole Initiativen? All das kann ins Spiel einfl
 ießen. Was passiert? •          Dorf-Geschichte erfinden: Worum st
 reiten die Leute? •          Rätsel\, Rollen und Stationen ausdenk
 en und ausprobieren. •          Testrunden\, Feedback und Feinschli
 ff – bis ein spielbares Konzept entsteht.
LOCATION:CVJM Jugendpfarrhof Skassa\, Pflasterstr. 1\, 01558 Großenhain\,
  Deutschland
END:VEVENT
END:VCALENDAR
