BEGIN:VCALENDAR
VERSION:2.0
PRODID:-//Kalender//
BEGIN:VEVENT
SUMMARY:Übungsleiterlehrgang „Kirche & Sport“
DTSTART:20260413T070000Z
DTEND:20260417T140000Z
DTSTAMP:20260421T123224Z
UID:event_ical_eventmanagement_1077
DESCRIPTION:Sport ist die schönste Nebensache der Welt! Und weil es nicht
  nur um Fußball geht\, reden wir von Breitensport und einer großen Vielf
 alt an Möglichkeiten und Chancen… als Lernort für das Leben\, auch fü
 r das soziale Miteinander. Sport für eine gesunde\, ganzheitliche Entwick
 lung von Menschen. Sport im Rehabereich\, für Gehandicapte und als Mögli
 chkeit der Integration. Sport auch als Hilfestellung gegen Einsamkeit und 
 Isolation. Und Kirche darf\, soll und kann ein wichtiger Mitplayer sein! W
 er Menschen ganzheitlich begleiten und professionell Sport betreiben will\
 , wer Inspiration und fachlich fundiertes Wissen sucht\, ist beim Übungsl
 eiterkurs von Kirche und Sport genau richtig. Nahezu einmalig ist das Ange
 bot eines zweiwöchigen Kompaktkurses in wunderschönen Ausbildungsstätte
 n mit idealen Bedingungen. Der Übungsleiterlehrgang „Kirche und Sport
 “ ist ein Gemeinschaftsprojekt des Arbeitskreises „Kirche und Sport“
 \, bestehend aus dem LSB Sachsen\, dem Landesjugendpfarramt Sachsens und d
 em CVJM Landesverband Sachsen. Der Lehrgang richtet sich an Interessierte 
 ab 17 Jahren\, die in Kirche\, CVJM und Sportverein haupt- oder ehrenamtli
 ch Breitensportgruppen begleiten und ihre Fähigkeiten der professionellen
  Anleitung weiterentwickeln wollen. Die Teilnahme an zwei Übungsleiterleh
 rgängen innerhalb von zwei Kalenderjahren berechtigt zum Erwerb der Übun
 gsleiterlizenz C Breitensport. Für eine Lizenzverlängerung ist der 2-tä
 gige Besuch eines Kurses notwendig. Angeboten werden vielfältige Inhalte\
 , die besonders in Einsatzfeldern der Jugendverbandsarbeit zur Anwendung k
 ommen können: Werte im Sport\, Kindeswohlgefährdung im Sport\, Suchtprä
 vention im Sport\, Sport und Demokratie\, Sport und Inklusion\, werteorien
 tiertes Training Trainingsmethodik in Übungseinheiten\, Turnierorganisati
 on\, Sportandachten Trainingslehre\, Bewegungsformen\, funktionelle Gymnas
 tik\, Faszientraining\, Sportbiologie Volleyball\, Fußball\, Futsal\, Str
 eetball\, Tischtennis\, Fun-Games\, Jugger\, Sportspiele\, uvm.
LOCATION:Sportschule Werdau\, An der Sportschule 1\, 08412 Werdau\, Deutsc
 hland
END:VEVENT
END:VCALENDAR
