BEGIN:VCALENDAR
VERSION:2.0
PRODID:-//Kalender//
BEGIN:VEVENT
SUMMARY:Let's BAND!
DTSTART;TZID=Europe/Berlin:20260320T000000
DTEND;TZID=Europe/Berlin:20260322T000000
DTSTAMP:20260424T164824Z
UID:event_ical_eventmanagement_1051
DESCRIPTION:Workshop-Wochenende für Bands und Rock-Pop-Begeisterte Eindr
 ücke vom Wochenende im August 2025 gewünscht? - Hier geht's zum Bericht:
  Abgucken ohne zu vergleichen In diesem Trailer erzählen die Coaches vom 
 Wochenende: Let's BAND! Trailer # Wer? Jugendliche zwischen 12 und 18 Jahr
 en mit Vorerfahrungen an einem Instrument im Bereich Rock/Pop (Gitarre\, B
 ass\, Klavier\, Schlagzeug)\, die erste Erfahrungen im Zusammenspiel einer
  Band machen wollen. Jugendliche\, die in einer Band singen wollen. Besteh
 ende Bands\, die ihren Sound und ihr Zusammenspiel weiterentwickeln wollen
 . Erwachsene Leitungspersonen sind ausdrücklich eingeladen dabei zu sein!
  # Instrumente? Alles aus dem Rock und Pop Bereich: Gesang\, E-Gitarre\, A
 kustik-Gitarre\, E-Bass\, Klavier\, Keyboard oder Schlagzeug etc. # Was? L
 et’s BAND! ist das Coaching-Format für Band-Enthusiasten. Egal\, ob Du 
 mit deiner ganzen Band kommst\, als stimmbegabter Mensch mit Freude an Pop
 -Songs\, oder als Instrumentalistin mit Vorerfahrung und Lust auf Pop &amp
 \; Rock – hier bekommst Du Input und die Möglichkeit\, deine Musik auf 
 ein neues Level zu heben. Bestehende Bands bekommen Impulse für ihre Arra
 ngements und Performance\,       #Leitung Carsten Hauptmann - Re
 ferent für Jugend- und Popularmusik im Ev.-Luth. Landesjugendpfarramt Sac
 hsens mit einem Team von ausgebildeten Musik-Pädagog:innen: #Coaches Aaro
 n Rosenow Hauptinstrument: Schlagzeug Breite Erfahrungen in unterschiedlic
 hsten Besetzungen (Pop\, Rock\, Jazz) als Musiker und als Coach Schwerpunk
 tthemen: Wie probt man? Tempo und Timing\, Songwriting strukturieren\, Tec
 hnik des Bandsraums Annika Liebig Berufsausbildung an der MUSICATION Nürn
 berg als Chor- und Ensembleleiterin mit pädagogischer Zusatzausbildung St
 udium Pop-Gesang am Institut für Musik in Osnabrück Leitung eigener Gesa
 ngsensembles Schwerpunktthemen: Gesang\, Background-Gesang Anton Israel Ha
 uptinstrument: Keyboards Studium Hauptfach Jazz/Rock/Pop-Klavier an der Ho
 chschule für Musik und Theater Leipzig Aktuell selbständig als Klavierle
 hrer und Musikproduzent in Leipzig www.instagram.com/antonisraelmusic/ Sch
 werpunktthemen: Komposition\, Producing\, Arrangement Carsten Kuniß Haupt
 instrumente: E-Bass\, Kontrabass Bass-Unterricht bei Prof. Tom Götze von 
 der Hochschule für Musik „Carl Maria von Weber“ in Dresden. Rege Konz
 erttätigkeit in verschiedenen Bands (u.a. Yellowtune \, Son:ja\, Lean Cav
 i Quartett) Schwerpunktthemen: Bandzusammenspiel\, Stilistik\, Sound Rebec
 ca Viertel Hauptinstrument: Gitarre/E-Gitarre\, Gesang Studium Kirchenmusi
 k popular (Ev. Popakademie Witten) Aktuell: Kinder- und Jugendkantorin im 
 Jugendzentrum Jugendkirche Dresden Schwerpunktthemen: Probenstruktur\, Arr
 angement\, Bandzusammenspiel
LOCATION:Landesmusikakademie Schloss Colditz\, Schlossgasse 1\, 04680 Cold
 itz\, Deutschland
END:VEVENT
END:VCALENDAR
