BEGIN:VCALENDAR
VERSION:2.0
PRODID:-//Kalender//
BEGIN:VEVENT
SUMMARY:Sächsische Jugendsingewoche im Naumburger Land
DTSTART;TZID=Europe/Berlin:20260731T000000
DTEND;TZID=Europe/Berlin:20260810T000000
DTSTAMP:20260424T113336Z
UID:event_ical_eventmanagement_1050
DESCRIPTION:Die Sächsische Jugendsingewoche im Naumburger Land ist... - i
 ntensive Chorarbeit mit vielstimmigen Werken von der Schütz-Motette bis z
 um Gospel - chorische Stimmbildung und Atemtraining - mehrere Konzerte und
  Gottesdienste in Kirchen Naumburgs und der Umgebung - gemeinsame Freizeit
 aktivitäten in ansprechender Umgebung - Möglichkeit zu instrumentalem Mu
 sizieren - gemeinsames Nachdenken über Gott und die Welt.   Leitung: Kan
 tor Andreas Conrad (Zschorlau) Nähere Informationen unter www.singewoche.
 de
LOCATION:Sankt Michaels-Haus\, Am Leihdenberg 1\, 06618 Roßbach bei Naumb
 urg\, Deutschland
END:VEVENT
END:VCALENDAR
