BEGIN:VCALENDAR
VERSION:2.0
PRODID:-//Kalender//
BEGIN:VEVENT
SUMMARY:Kommunikation und Personalführung - Wie führe ich authentisch?
DTSTART;TZID=Europe/Berlin:20250903T090000
DTEND;TZID=Europe/Berlin:20250903T163000
DTSTAMP:20260425T145214Z
UID:event_ical_eventmanagement_1019
DESCRIPTION:In unserer Weiterbildung wird es um Haltung als Grundlage der 
 Gesprächskommunikation und zur Missverständnisvermeidung gehen. Weiterhi
 n wird Führen und Kommunizieren durch Haltung statt durch Standpunkte (ga
 nzheitliche Kommunikation - mehr als Worte) eine Rolle spielen.   Wir wer
 den lernen\, dass Führung als eine Rolle im Team\, zielführende Gespräc
 hsgestaltung mit Mitarbeitenden und  grundlegende Gesprächskompetenzen u
 nd -techniken Klarheit und Wertschätzung keine Gegensätze sind. Ebenso b
 eschäftigen wir uns mit der Frage wie gehen wir mit mit Konfliktsituation
 en um? Die Weiterbildung wird von dem erfahrenen Kommunikations- und Kreat
 ivtrainer Bernhard Holfeld\, https://www.fairsprechen-und-verstehen.de/ ge
 leitet. Bringen Sie also im Nachgang Ihrer Teilnahme Ihre neu erworbenen K
 ompetenzen in Kommunikation und Personalführung in Ihren Umgang mit Perso
 nal ein.   Referent: Bernhard Holfeld - https://www.fairsprechen-und-vers
 tehen.de/ Herr Holfeld arbeitet bereits seit mehreren Jahren erfolgreich m
 it dem Landestourismusverband Sachsen zusammen und kennt auch kirchliche H
 intergründe sehr gut.
LOCATION:Evangelische Tagungs- und Freizeitstätte Dresden\, Heideflügel 
 2\, 01324 Dresden\, Deutschland
END:VEVENT
END:VCALENDAR
